BEGIN:VCALENDAR
VERSION:2.0
PRODID:-//First United Methodist Church of Evanston, IL - ECPv6.15.20//NONSGML v1.0//EN
CALSCALE:GREGORIAN
METHOD:PUBLISH
X-WR-CALNAME:First United Methodist Church of Evanston, IL
X-ORIGINAL-URL:https://faithatfirst.org
X-WR-CALDESC:Events for First United Methodist Church of Evanston, IL
REFRESH-INTERVAL;VALUE=DURATION:PT1H
X-Robots-Tag:noindex
X-PUBLISHED-TTL:PT1H
BEGIN:VTIMEZONE
TZID:UTC
BEGIN:STANDARD
TZOFFSETFROM:+0000
TZOFFSETTO:+0000
TZNAME:UTC
DTSTART:20220101T000000
END:STANDARD
END:VTIMEZONE
BEGIN:VEVENT
DTSTART;TZID=UTC:20231220T190000
DTEND;TZID=UTC:20231220T201500
DTSTAMP:20260425T183647
CREATED:20230901T202955Z
LAST-MODIFIED:20230901T202955Z
UID:10005025-1703098800-1703103300@faithatfirst.org
SUMMARY:Communications Committee Meeting
DESCRIPTION:Monthly meeting of the Communications Committee. Contact Chair Andy Shotwell with questions at ashotwell@gmail.com .
URL:https://faithatfirst.org/event/communications-committee-meeting-9/2023-12-20/
LOCATION:Zoom
END:VEVENT
END:VCALENDAR