BEGIN:VCALENDAR
VERSION:2.0
PRODID:-//First United Methodist Church of Evanston, IL - ECPv6.15.20//NONSGML v1.0//EN
CALSCALE:GREGORIAN
METHOD:PUBLISH
X-WR-CALNAME:First United Methodist Church of Evanston, IL
X-ORIGINAL-URL:https://faithatfirst.org
X-WR-CALDESC:Events for First United Methodist Church of Evanston, IL
REFRESH-INTERVAL;VALUE=DURATION:PT1H
X-Robots-Tag:noindex
X-PUBLISHED-TTL:PT1H
BEGIN:VTIMEZONE
TZID:UTC
BEGIN:STANDARD
TZOFFSETFROM:+0000
TZOFFSETTO:+0000
TZNAME:UTC
DTSTART:20220101T000000
END:STANDARD
END:VTIMEZONE
BEGIN:VEVENT
DTSTART;TZID=UTC:20230702T100000
DTEND;TZID=UTC:20230702T103000
DTSTAMP:20260425T061741
CREATED:20230628T013324Z
LAST-MODIFIED:20230628T013324Z
UID:17619-1688292000-1688293800@faithatfirst.org
SUMMARY:Church Conference
DESCRIPTION:The District Superintendent has called a special Church Conference for our congregation on Sunday\, July 2\, 2023\, at 10:00am in the dining room. All church members are encouraged to attend. \nThe one agenda item is the report of the Nominations and Leadership Development Committee which calls for a vote on the proposed 2023-2024 Church Leadership. \nAlthough voting is limited to those members who are present in person\, we will have a hybrid setup for members who wish to participate virtually (with a voice but no vote).   \nPlease do not hesitate to contact Pastor Grace with questions or concerns.  \nEmail: Grace@faithatfirst.com  \nCell: 331-575-4158 
URL:https://faithatfirst.org/event/church-conference/
LOCATION:Dining Room
END:VEVENT
END:VCALENDAR