BEGIN:VCALENDAR
VERSION:2.0
PRODID:-//First United Methodist Church of Evanston, IL - ECPv6.15.20//NONSGML v1.0//EN
CALSCALE:GREGORIAN
METHOD:PUBLISH
X-WR-CALNAME:First United Methodist Church of Evanston, IL
X-ORIGINAL-URL:https://faithatfirst.org
X-WR-CALDESC:Events for First United Methodist Church of Evanston, IL
REFRESH-INTERVAL;VALUE=DURATION:PT1H
X-Robots-Tag:noindex
X-PUBLISHED-TTL:PT1H
BEGIN:VTIMEZONE
TZID:UTC
BEGIN:STANDARD
TZOFFSETFROM:+0000
TZOFFSETTO:+0000
TZNAME:UTC
DTSTART:20220101T000000
END:STANDARD
END:VTIMEZONE
BEGIN:VEVENT
DTSTART;TZID=UTC:20231224T230000
DTEND;TZID=UTC:20231225T000000
DTSTAMP:20260421T085422
CREATED:20231208T033808Z
LAST-MODIFIED:20231208T034035Z
UID:19152-1703458800-1703462400@faithatfirst.org
SUMMARY:Christmas Eve Candleight Service With Communion\, Soloist\, & Organ
DESCRIPTION:
URL:https://faithatfirst.org/event/christmas-eve-candleight-service-with-communion/
LOCATION:Sanctuary
END:VEVENT
END:VCALENDAR