BEGIN:VCALENDAR
VERSION:2.0
PRODID:-//First United Methodist Church of Evanston, IL - ECPv6.15.20//NONSGML v1.0//EN
CALSCALE:GREGORIAN
METHOD:PUBLISH
X-WR-CALNAME:First United Methodist Church of Evanston, IL
X-ORIGINAL-URL:https://faithatfirst.org
X-WR-CALDESC:Events for First United Methodist Church of Evanston, IL
REFRESH-INTERVAL;VALUE=DURATION:PT1H
X-Robots-Tag:noindex
X-PUBLISHED-TTL:PT1H
BEGIN:VTIMEZONE
TZID:UTC
BEGIN:STANDARD
TZOFFSETFROM:+0000
TZOFFSETTO:+0000
TZNAME:UTC
DTSTART:20230101T000000
END:STANDARD
END:VTIMEZONE
BEGIN:VEVENT
DTSTART;TZID=UTC:20240508T193000
DTEND;TZID=UTC:20240508T210000
DTSTAMP:20260424T071715
CREATED:20230616T001600Z
LAST-MODIFIED:20230616T001600Z
UID:10003915-1715196600-1715202000@faithatfirst.org
SUMMARY:Chancel Choir Rehearsal
DESCRIPTION:Adults and high school youth rehearse music for worship. No audition is required. Email Dr. Brian Schoettler for more information.
URL:https://faithatfirst.org/event/chancel-choir-rehearsal-90/2024-05-08/
LOCATION:Choir Room
END:VEVENT
END:VCALENDAR