BEGIN:VCALENDAR
VERSION:2.0
PRODID:-//First United Methodist Church of Evanston, IL - ECPv6.15.20//NONSGML v1.0//EN
CALSCALE:GREGORIAN
METHOD:PUBLISH
X-WR-CALNAME:First United Methodist Church of Evanston, IL
X-ORIGINAL-URL:https://faithatfirst.org
X-WR-CALDESC:Events for First United Methodist Church of Evanston, IL
REFRESH-INTERVAL;VALUE=DURATION:PT1H
X-Robots-Tag:noindex
X-PUBLISHED-TTL:PT1H
BEGIN:VTIMEZONE
TZID:UTC
BEGIN:STANDARD
TZOFFSETFROM:+0000
TZOFFSETTO:+0000
TZNAME:UTC
DTSTART:20220101T000000
END:STANDARD
END:VTIMEZONE
BEGIN:VEVENT
DTSTART;TZID=UTC:20230603T100000
DTEND;TZID=UTC:20230603T130000
DTSTAMP:20260420T015154
CREATED:20230505T060834Z
LAST-MODIFIED:20230505T064037Z
UID:17195-1685786400-1685797200@faithatfirst.org
SUMMARY:Bundled Blessings Pack-the-Truck
DESCRIPTION:Bundled Blessings Diaper Bank is holding its annual Diaper Drive known as “Pack the Truck.” The community is invited to drop off boxes of diapers (any size or brand) or purchase diapers through Amazon or make an online donation in support of Bundled Blessings Diaper Bank.
URL:https://faithatfirst.org/event/bundled-blessings-pack-the-truck/
ATTACH;FMTTYPE=image/jpeg:https://faithatfirst.org/wp-content/uploads/2023/05/Diaper-Drive-Sept-truck-2-scaled.jpg
ORGANIZER;CN="Nancy Brown":MAILTO:nandbrown@comcast.net
END:VEVENT
END:VCALENDAR