BEGIN:VCALENDAR
VERSION:2.0
PRODID:-//First United Methodist Church of Evanston, IL - ECPv6.15.20//NONSGML v1.0//EN
CALSCALE:GREGORIAN
METHOD:PUBLISH
X-WR-CALNAME:First United Methodist Church of Evanston, IL
X-ORIGINAL-URL:https://faithatfirst.org
X-WR-CALDESC:Events for First United Methodist Church of Evanston, IL
REFRESH-INTERVAL;VALUE=DURATION:PT1H
X-Robots-Tag:noindex
X-PUBLISHED-TTL:PT1H
BEGIN:VTIMEZONE
TZID:UTC
BEGIN:STANDARD
TZOFFSETFROM:+0000
TZOFFSETTO:+0000
TZNAME:UTC
DTSTART:20220101T000000
END:STANDARD
END:VTIMEZONE
BEGIN:VEVENT
DTSTART;TZID=UTC:20230307T193000
DTEND;TZID=UTC:20230307T210000
DTSTAMP:20260423T154640
CREATED:20220831T004646Z
LAST-MODIFIED:20220831T004646Z
UID:14701-1678217400-1678222800@faithatfirst.org
SUMMARY:Book Group
DESCRIPTION:
URL:https://faithatfirst.org/event/book-group-6/
LOCATION:Glenna Hall
ORGANIZER;CN="Janet Lutz":MAILTO:janetatl@aol.com
END:VEVENT
END:VCALENDAR