BEGIN:VCALENDAR
VERSION:2.0
PRODID:-//First United Methodist Church of Evanston, IL - ECPv6.15.20//NONSGML v1.0//EN
CALSCALE:GREGORIAN
METHOD:PUBLISH
X-WR-CALNAME:First United Methodist Church of Evanston, IL
X-ORIGINAL-URL:https://faithatfirst.org
X-WR-CALDESC:Events for First United Methodist Church of Evanston, IL
REFRESH-INTERVAL;VALUE=DURATION:PT1H
X-Robots-Tag:noindex
X-PUBLISHED-TTL:PT1H
BEGIN:VTIMEZONE
TZID:UTC
BEGIN:STANDARD
TZOFFSETFROM:+0000
TZOFFSETTO:+0000
TZNAME:UTC
DTSTART:20220101T000000
END:STANDARD
END:VTIMEZONE
BEGIN:VEVENT
DTSTART;TZID=UTC:20230319T153000
DTEND;TZID=UTC:20230319T170000
DTSTAMP:20260424T190353
CREATED:20230214T235518Z
LAST-MODIFIED:20230214T235518Z
UID:16449-1679239800-1679245200@faithatfirst.org
SUMMARY:ASP Training
DESCRIPTION:ASP training for all registered high school youth and adults; contact: Krys Juleen\, krys@faithatfirst.com
URL:https://faithatfirst.org/event/asp-training/
LOCATION:Room M
END:VEVENT
END:VCALENDAR