BEGIN:VCALENDAR
VERSION:2.0
PRODID:-//First United Methodist Church of Evanston, IL - ECPv6.15.20//NONSGML v1.0//EN
CALSCALE:GREGORIAN
METHOD:PUBLISH
X-WR-CALNAME:First United Methodist Church of Evanston, IL
X-ORIGINAL-URL:https://faithatfirst.org
X-WR-CALDESC:Events for First United Methodist Church of Evanston, IL
REFRESH-INTERVAL;VALUE=DURATION:PT1H
X-Robots-Tag:noindex
X-PUBLISHED-TTL:PT1H
BEGIN:VTIMEZONE
TZID:America/Chicago
BEGIN:DAYLIGHT
TZOFFSETFROM:-0600
TZOFFSETTO:-0500
TZNAME:CDT
DTSTART:20230312T080000
END:DAYLIGHT
BEGIN:STANDARD
TZOFFSETFROM:-0500
TZOFFSETTO:-0600
TZNAME:CST
DTSTART:20231105T070000
END:STANDARD
BEGIN:DAYLIGHT
TZOFFSETFROM:-0600
TZOFFSETTO:-0500
TZNAME:CDT
DTSTART:20240310T080000
END:DAYLIGHT
BEGIN:STANDARD
TZOFFSETFROM:-0500
TZOFFSETTO:-0600
TZNAME:CST
DTSTART:20241103T070000
END:STANDARD
BEGIN:DAYLIGHT
TZOFFSETFROM:-0600
TZOFFSETTO:-0500
TZNAME:CDT
DTSTART:20250309T080000
END:DAYLIGHT
BEGIN:STANDARD
TZOFFSETFROM:-0500
TZOFFSETTO:-0600
TZNAME:CST
DTSTART:20251102T070000
END:STANDARD
END:VTIMEZONE
BEGIN:VEVENT
DTSTART;TZID=America/Chicago:20241208T180000
DTEND;TZID=America/Chicago:20241208T190000
DTSTAMP:20260423T183713
CREATED:20241008T185846Z
LAST-MODIFIED:20241204T183331Z
UID:10007413-1733680800-1733684400@faithatfirst.org
SUMMARY:An Unlikely Advent
DESCRIPTION:An Unlikely Advent: Sundays at 6:00 pm ONLINE (December 1\, 8\, 15\, and 22) \nIn this four-week Advent study\, we consider if some of the figures on the edges of the Christmas story might have more to teach us about the intersection of God’s story with ours? With the themes of hope\, love\, joy\, and peace we will examine the stories of Elizabeth and Zechariah\, Herod\, the Magi\, and the shepherds. Each set of unexpected characters has something to teach about living faithfully on the journey to Christmas. \nEach week we will have a short reading assignment (available in print and electronically at https://www.cokesbury.com/An-Unlikely-Advent) – and some lively and thoughtful discussion. \nPlease contact the facilitator\, Linda Brennan\, to register and receive the Zoom link: brennaneaster@gmail.com.
URL:https://faithatfirst.org/event/an-unlikely-advent/2024-12-08/
END:VEVENT
END:VCALENDAR