BEGIN:VCALENDAR
VERSION:2.0
PRODID:-//First United Methodist Church of Evanston, IL - ECPv6.15.20//NONSGML v1.0//EN
CALSCALE:GREGORIAN
METHOD:PUBLISH
X-WR-CALNAME:First United Methodist Church of Evanston, IL
X-ORIGINAL-URL:https://faithatfirst.org
X-WR-CALDESC:Events for First United Methodist Church of Evanston, IL
REFRESH-INTERVAL;VALUE=DURATION:PT1H
X-Robots-Tag:noindex
X-PUBLISHED-TTL:PT1H
BEGIN:VTIMEZONE
TZID:UTC
BEGIN:STANDARD
TZOFFSETFROM:+0000
TZOFFSETTO:+0000
TZNAME:UTC
DTSTART:20220101T000000
END:STANDARD
END:VTIMEZONE
BEGIN:VEVENT
DTSTART;TZID=UTC:20231121T190000
DTEND;TZID=UTC:20231121T203000
DTSTAMP:20260425T080356
CREATED:20230818T202215Z
LAST-MODIFIED:20230818T202215Z
UID:10004384-1700593200-1700598600@faithatfirst.org
SUMMARY:Adult Christian Education Council
DESCRIPTION:A meeting of the Adult Christian Education Council. The contacts are\nAllison Greer allison.greer123@gmail.com\nHenry Carrigan carjrn@aol.com
URL:https://faithatfirst.org/event/adult-christian-education-council/2023-11-21/
LOCATION:Conference Room
END:VEVENT
END:VCALENDAR